BEGIN:VCALENDAR
VERSION:2.0
PRODID:-//hacksw/handcal//NONSGML v1.0//EN
BEGIN:VEVENT
SUMMARY:permanence Jean Marc
UID:b1a1b4ed-c228-416a-a0f7-9299041f0dd2
DTSTART:20260826T140000Z
DTEND:20260826T170000Z
LOCATION:Localisation   
CATEGORIES:Administratif
STATUS:
URL;VALUE=URI:https://tsgc.sportsregions.fr/evenements/2026/08/26/permanence-jean-marc-2434214
END:VEVENT
END:VCALENDAR
