BEGIN:VCALENDAR
VERSION:2.0
PRODID:-//hacksw/handcal//NONSGML v1.0//EN
BEGIN:VEVENT
SUMMARY:permanence Jean Marc
UID:0d3d0fdb-69c8-42c0-8dc1-c689170b03e6
DTSTART:20260819T140000Z
DTEND:20260819T170000Z
LOCATION:Localisation   
CATEGORIES:Administratif
STATUS:
URL;VALUE=URI:https://tsgc.sportsregions.fr/evenements/2026/08/19/permanence-jean-marc-2434215
END:VEVENT
END:VCALENDAR
