BEGIN:VCALENDAR
VERSION:2.0
PRODID:-//hacksw/handcal//NONSGML v1.0//EN
BEGIN:VEVENT
SUMMARY:permanence Jean Marc
UID:6a22bf15-1526-4515-ae36-e10dc91ceafa
DTSTART:20260812T140000Z
DTEND:20260812T170000Z
LOCATION:Localisation   
CATEGORIES:Administratif
STATUS:
URL;VALUE=URI:https://tsgc.sportsregions.fr/evenements/2026/08/12/permanence-jean-marc-2434216
END:VEVENT
END:VCALENDAR
