BEGIN:VCALENDAR
VERSION:2.0
PRODID:-//hacksw/handcal//NONSGML v1.0//EN
BEGIN:VEVENT
SUMMARY:permanence Jean Marc
UID:2147df99-8bb7-4370-ab69-5af72c3dd284
DTSTART:20260805T140000Z
DTEND:20260805T170000Z
LOCATION:Localisation   
CATEGORIES:Administratif
STATUS:
URL;VALUE=URI:https://tsgc.sportsregions.fr/evenements/2026/08/05/permanence-jean-marc-2434217
END:VEVENT
END:VCALENDAR
