BEGIN:VCALENDAR
VERSION:2.0
PRODID:-//hacksw/handcal//NONSGML v1.0//EN
BEGIN:VEVENT
SUMMARY:permanence Jean Marc
UID:960c9ad1-aaa3-4aee-ae43-ad360bd89e1e
DTSTART:20260729T140000Z
DTEND:20260729T170000Z
LOCATION:Localisation   
CATEGORIES:Administratif
STATUS:
URL;VALUE=URI:https://tsgc.sportsregions.fr/evenements/2026/07/29/permanence-jean-marc-2434218
END:VEVENT
END:VCALENDAR
