BEGIN:VCALENDAR
VERSION:2.0
PRODID:-//hacksw/handcal//NONSGML v1.0//EN
BEGIN:VEVENT
SUMMARY:permanence Jean Marc
UID:dee46b05-833e-4b31-9948-860aa35e0323
DTSTART:20260722T140000Z
DTEND:20260722T170000Z
LOCATION:Localisation   
CATEGORIES:Administratif
STATUS:
URL;VALUE=URI:https://tsgc.sportsregions.fr/evenements/2026/07/22/permanence-jean-marc-2434213
END:VEVENT
END:VCALENDAR
