BEGIN:VCALENDAR
VERSION:2.0
PRODID:-//hacksw/handcal//NONSGML v1.0//EN
BEGIN:VEVENT
SUMMARY:permanence Jean Marc
UID:3802e45a-962a-43fc-a2ef-750115a144bd
DTSTART:20260715T140000Z
DTEND:20260715T170000Z
LOCATION:Localisation   
CATEGORIES:Administratif
STATUS:
URL;VALUE=URI:https://tsgc.sportsregions.fr/evenements/2026/07/15/permanence-jean-marc-2434219
END:VEVENT
END:VCALENDAR
