BEGIN:VCALENDAR
VERSION:2.0
PRODID:-//hacksw/handcal//NONSGML v1.0//EN
BEGIN:VEVENT
SUMMARY:permanence Jean Marc
UID:ea428dde-b70d-48af-991f-57d8630b3a20
DTSTART:20260701T140000Z
DTEND:20260701T170000Z
LOCATION:Localisation   
CATEGORIES:Administratif
STATUS:
URL;VALUE=URI:https://tsgc.sportsregions.fr/evenements/2026/07/01/permanence-jean-marc-2434212
END:VEVENT
END:VCALENDAR
