BEGIN:VCALENDAR
VERSION:2.0
PRODID:-//hacksw/handcal//NONSGML v1.0//EN
BEGIN:VEVENT
SUMMARY:permanence Laurent
UID:1e6ec903-c6ac-469c-9bbc-da8799f4a423
DTSTART:20260628T073000Z
DTEND:20260628T100000Z
LOCATION:Localisation   
CATEGORIES:Administratif
STATUS:
URL;VALUE=URI:https://tsgc.sportsregions.fr/evenements/2026/06/28/permanence-laurent-2434194
END:VEVENT
END:VCALENDAR
