BEGIN:VCALENDAR
VERSION:2.0
PRODID:-//hacksw/handcal//NONSGML v1.0//EN
BEGIN:VEVENT
SUMMARY:reunion de bureau
UID:2b9bface-bc36-4ab6-ac46-d1b975913657
DTSTART:20260626T163000Z
DTEND:20260626T180000Z
LOCATION:Localisation   
CATEGORIES:Administratif
STATUS:
URL;VALUE=URI:https://tsgc.sportsregions.fr/evenements/2026/06/26/reunion-de-bureau-2434221
END:VEVENT
END:VCALENDAR
