BEGIN:VCALENDAR
VERSION:2.0
PRODID:-//hacksw/handcal//NONSGML v1.0//EN
BEGIN:VEVENT
SUMMARY:permanent Didier
UID:60f4c356-5c6e-4b3e-a4e3-a2ed09f64d98
DTSTART:20260625T143000Z
DTEND:20260625T170000Z
LOCATION:Localisation   
CATEGORIES:Administratif
STATUS:
URL;VALUE=URI:https://tsgc.sportsregions.fr/evenements/2026/06/25/permanent-didier-2434179
END:VEVENT
END:VCALENDAR
