BEGIN:VCALENDAR
VERSION:2.0
PRODID:-//hacksw/handcal//NONSGML v1.0//EN
BEGIN:VEVENT
SUMMARY:permanence Jean Marc
UID:01d89a81-7766-4c3f-bcad-a4b2a72a0572
DTSTART:20260624T140000Z
DTEND:20260624T170000Z
LOCATION:Localisation   
CATEGORIES:Administratif
STATUS:
URL;VALUE=URI:https://tsgc.sportsregions.fr/evenements/2026/06/24/permanence-jean-marc-2434166
END:VEVENT
END:VCALENDAR
