BEGIN:VCALENDAR
VERSION:2.0
PRODID:-//hacksw/handcal//NONSGML v1.0//EN
BEGIN:VEVENT
SUMMARY:permanent Christian
UID:74d5668e-fc5c-4d6b-8090-fb869e5a7d1f
DTSTART:20260622T143000Z
DTEND:20260622T170000Z
LOCATION:Localisation   
CATEGORIES:Administratif
STATUS:
URL;VALUE=URI:https://tsgc.sportsregions.fr/evenements/2026/06/22/permanent-christian-2434159
END:VEVENT
END:VCALENDAR
