BEGIN:VCALENDAR
VERSION:2.0
PRODID:-//hacksw/handcal//NONSGML v1.0//EN
BEGIN:VEVENT
SUMMARY:permanence Fabien
UID:403c08dc-7f06-4b85-952c-8349cd0e4f42
DTSTART:20260621T073000Z
DTEND:20260621T100000Z
LOCATION:Localisation   
CATEGORIES:Administratif
STATUS:
URL;VALUE=URI:https://tsgc.sportsregions.fr/evenements/2026/06/21/permanence-fabien-2434201
END:VEVENT
END:VCALENDAR
