BEGIN:VCALENDAR
VERSION:2.0
PRODID:-//hacksw/handcal//NONSGML v1.0//EN
BEGIN:VEVENT
SUMMARY:permanent Didier
UID:7ce0bf49-d5f4-4ee3-9d35-ad37437b0c61
DTSTART:20260618T143000Z
DTEND:20260618T170000Z
LOCATION:Localisation   
CATEGORIES:Administratif
STATUS:
URL;VALUE=URI:https://tsgc.sportsregions.fr/evenements/2026/06/18/permanent-didier-2434181
END:VEVENT
END:VCALENDAR
