BEGIN:VCALENDAR
VERSION:2.0
PRODID:-//hacksw/handcal//NONSGML v1.0//EN
BEGIN:VEVENT
SUMMARY:permanence Jean Marc
UID:d148ab5a-60f2-4fb8-892f-e2c5baefa9d4
DTSTART:20260617T140000Z
DTEND:20260617T170000Z
LOCATION:Localisation   
CATEGORIES:Administratif
STATUS:
URL;VALUE=URI:https://tsgc.sportsregions.fr/evenements/2026/06/17/permanence-jean-marc-2434168
END:VEVENT
END:VCALENDAR
