BEGIN:VCALENDAR
VERSION:2.0
PRODID:-//hacksw/handcal//NONSGML v1.0//EN
BEGIN:VEVENT
SUMMARY:permanent Christian
UID:c3c50c33-acbe-49a1-94e0-1a8e4433ec64
DTSTART:20260615T143000Z
DTEND:20260615T170000Z
LOCATION:Localisation   
CATEGORIES:Administratif
STATUS:
URL;VALUE=URI:https://tsgc.sportsregions.fr/evenements/2026/06/15/permanent-christian-2434160
END:VEVENT
END:VCALENDAR
