BEGIN:VCALENDAR
VERSION:2.0
PRODID:-//hacksw/handcal//NONSGML v1.0//EN
BEGIN:VEVENT
SUMMARY:permanence Thierry GRAVIERE
UID:82a1717b-a019-4cb4-ade8-f68cf1330ec2
DTSTART:20260614T073000Z
DTEND:20260614T100000Z
LOCATION:Localisation   
CATEGORIES:Administratif
STATUS:
URL;VALUE=URI:https://tsgc.sportsregions.fr/evenements/2026/06/14/permanence-thierry-graviere-2434202
END:VEVENT
END:VCALENDAR
