BEGIN:VCALENDAR
VERSION:2.0
PRODID:-//hacksw/handcal//NONSGML v1.0//EN
BEGIN:VEVENT
SUMMARY:permanent Didier
UID:89fe18ad-cbf1-4941-a443-fc497e3f18e9
DTSTART:20260611T143000Z
DTEND:20260611T170000Z
LOCATION:Localisation   
CATEGORIES:Administratif
STATUS:
URL;VALUE=URI:https://tsgc.sportsregions.fr/evenements/2026/06/11/permanent-didier-2434186
END:VEVENT
END:VCALENDAR
