BEGIN:VCALENDAR
VERSION:2.0
PRODID:-//hacksw/handcal//NONSGML v1.0//EN
BEGIN:VEVENT
SUMMARY:permanent Christian
UID:dbc8cea7-5a54-4abf-86e5-728ba2354f8d
DTSTART:20260608T143000Z
DTEND:20260608T170000Z
LOCATION:Localisation   
CATEGORIES:Administratif
STATUS:
URL;VALUE=URI:https://tsgc.sportsregions.fr/evenements/2026/06/08/permanent-christian-2434161
END:VEVENT
END:VCALENDAR
