BEGIN:VCALENDAR
VERSION:2.0
PRODID:-//hacksw/handcal//NONSGML v1.0//EN
BEGIN:VEVENT
SUMMARY:permanence BRUNO
UID:13ad1103-ccd4-4151-98de-dc5a07e386d6
DTSTART:20260607T073000Z
DTEND:20260607T100000Z
LOCATION:Localisation   
CATEGORIES:Administratif
STATUS:
URL;VALUE=URI:https://tsgc.sportsregions.fr/evenements/2026/06/07/permanence-bruno-2434203
END:VEVENT
END:VCALENDAR
