BEGIN:VCALENDAR
VERSION:2.0
PRODID:-//hacksw/handcal//NONSGML v1.0//EN
BEGIN:VEVENT
SUMMARY:permanence Jean Marc
UID:338a6b18-8363-4a31-9910-395180c88b80
DTSTART:20260603T140000Z
DTEND:20260603T170000Z
LOCATION:Localisation   
CATEGORIES:Administratif
STATUS:
URL;VALUE=URI:https://tsgc.sportsregions.fr/evenements/2026/06/03/permanence-jean-marc-2434174
END:VEVENT
END:VCALENDAR
