BEGIN:VCALENDAR
VERSION:2.0
PRODID:-//hacksw/handcal//NONSGML v1.0//EN
BEGIN:VEVENT
SUMMARY:permanent Christian
UID:0dcc714a-da10-4382-bade-c597dbe25be7
DTSTART:20260601T143000Z
DTEND:20260601T170000Z
LOCATION:Localisation   
CATEGORIES:Administratif
STATUS:
URL;VALUE=URI:https://tsgc.sportsregions.fr/evenements/2026/06/01/permanent-christian-2434162
END:VEVENT
END:VCALENDAR
