BEGIN:VCALENDAR
VERSION:2.0
PRODID:-//hacksw/handcal//NONSGML v1.0//EN
BEGIN:VEVENT
SUMMARY:club ferme
UID:fec1ee33-0626-41a7-bba4-56c3d5a82265
DTSTART:20260326T153000Z
DTEND:20260326T180000Z
LOCATION:Localisation   
CATEGORIES:Administratif
STATUS:
URL;VALUE=URI:https://tsgc.sportsregions.fr/evenements/2026/03/26/club-ferme-2417368
END:VEVENT
END:VCALENDAR
